BEGIN:VCALENDAR
VERSION:2.0
PRODID:-//Sophicity/Tribune/Midway, KY
BEGIN:VEVENT
DTSTAMP:20260425T125617Z
UID:3b29fe0f-a6f5-4a24-a8c3-7164fb90467d-3767
DTSTART:20170902T123000Z
DTEND:20170902T133000Z
LOCATION:Midway Presbyterian Church, 103 N Turner St, Midway, KY 40347, United States
CLASS:PUBLIC
SUMMARY:Yoga
END:VEVENT
END:VCALENDAR
