BEGIN:VCALENDAR
VERSION:2.0
PRODID:-//Sophicity/Tribune/Midway, KY
BEGIN:VEVENT
DTSTAMP:20260425T104332Z
UID:3b29fe0f-a6f5-4a24-a8c3-7164fb90467d-3786
DTSTART:20160203T140000Z
DTEND:20160203T150000Z
LOCATION:Midway City Hall, 101 E Main St, Midway, KY, United States - Upstairs Conference Room
CLASS:PUBLIC
SUMMARY:Midway Merchants Association Meeting
END:VEVENT
END:VCALENDAR
