BEGIN:VCALENDAR
VERSION:2.0
PRODID:-//Sophicity/Tribune/Midway, KY
BEGIN:VEVENT
DTSTAMP:20260425T140048Z
UID:3b29fe0f-a6f5-4a24-a8c3-7164fb90467d-3840
DTSTART:20161107T230000Z
DTEND:20161108T001500Z
LOCATION:Midway University - Anne Hart Raymond Ctr, Room 120
CLASS:PUBLIC
SUMMARY:Midway Toastmasters Club
END:VEVENT
END:VCALENDAR
