BEGIN:VCALENDAR
VERSION:2.0
PRODID:-//Sophicity/Tribune/Midway, KY
BEGIN:VEVENT
DTSTAMP:20260425T125617Z
UID:3b29fe0f-a6f5-4a24-a8c3-7164fb90467d-3879
DTSTART:20170807T220000Z
DTEND:20170807T231500Z
LOCATION:Midway University - Anne Hart Raymond Ctr, Room 120
CLASS:PUBLIC
SUMMARY:Midway Toastmasters Club
END:VEVENT
END:VCALENDAR
