BEGIN:VCALENDAR
VERSION:2.0
PRODID:-//Sophicity/Tribune/Midway, KY
BEGIN:VEVENT
DTSTAMP:20260425T141125Z
UID:3b29fe0f-a6f5-4a24-a8c3-7164fb90467d-3890
DTSTART:20171023T220000Z
DTEND:20171023T231500Z
LOCATION:Midway University - Anne Hart Raymond Ctr, Room 120
CLASS:PUBLIC
SUMMARY:Midway Toastmasters Club
END:VEVENT
END:VCALENDAR
