BEGIN:VCALENDAR
VERSION:2.0
PRODID:-//Sophicity/Tribune/Midway, KY
BEGIN:VEVENT
DTSTAMP:20260425T111854Z
UID:3b29fe0f-a6f5-4a24-a8c3-7164fb90467d-3920
DTSTART:20170717T213000Z
DTEND:20170717T223000Z
LOCATION:Midway City Hall, 101 E Main St, Midway, KY 40347, United States
CLASS:PUBLIC
SUMMARY:City Council Meeting 
END:VEVENT
END:VCALENDAR
