BEGIN:VCALENDAR
VERSION:2.0
PRODID:-//Sophicity/Tribune/Midway, KY
BEGIN:VEVENT
DTSTAMP:20260425T122659Z
UID:3b29fe0f-a6f5-4a24-a8c3-7164fb90467d-3924
DTSTART:20171120T223000Z
DTEND:20171120T233000Z
LOCATION:Midway City Hall, 101 E Main St, Midway, KY 40347, United States
CLASS:PUBLIC
SUMMARY:City Council Meeting 
END:VEVENT
END:VCALENDAR
