BEGIN:VCALENDAR
VERSION:2.0
PRODID:-//Sophicity/Tribune/Midway, KY
BEGIN:VEVENT
DTSTAMP:20260425T143250Z
UID:3b29fe0f-a6f5-4a24-a8c3-7164fb90467d-3934
DTSTART:20170925T223000Z
DTEND:20170925T223000Z
LOCATION:Midway Christian Church, 123 E. Bruen St.  Midway, KY 40347
CLASS:PUBLIC
SUMMARY:Community Dinner 
END:VEVENT
END:VCALENDAR
