BEGIN:VCALENDAR
VERSION:2.0
PRODID:-//Sophicity/Tribune/Midway, KY
BEGIN:VEVENT
DTSTAMP:20260425T141137Z
UID:3b29fe0f-a6f5-4a24-a8c3-7164fb90467d-3962
DTSTART:20171023T160000Z
DTEND:20171023T160000Z
CLASS:PUBLIC
SUMMARY:Keeneland
END:VEVENT
END:VCALENDAR
