BEGIN:VCALENDAR
VERSION:2.0
PRODID:-//Sophicity/Tribune/Midway, KY
BEGIN:VEVENT
DTSTAMP:20260425T111715Z
UID:3b29fe0f-a6f5-4a24-a8c3-7164fb90467d-3968
DTSTART:20170728T160000Z
DTEND:20170728T160000Z
CLASS:PUBLIC
SUMMARY:Midsummer Nights in Midway
END:VEVENT
END:VCALENDAR
