BEGIN:VCALENDAR
VERSION:2.0
PRODID:-//Sophicity/Tribune/Midway, KY
BEGIN:VEVENT
DTSTAMP:20260425T122658Z
UID:3b29fe0f-a6f5-4a24-a8c3-7164fb90467d-3970
DTSTART:20171124T233000Z
DTEND:20171124T233000Z
CLASS:PUBLIC
SUMMARY:Santa & Tree Lighting 
END:VEVENT
END:VCALENDAR
