BEGIN:VCALENDAR
VERSION:2.0
PRODID:-//Sophicity/Tribune/Midway, KY
BEGIN:VEVENT
DTSTAMP:20260425T125617Z
UID:3b29fe0f-a6f5-4a24-a8c3-7164fb90467d-3972
DTSTART:20170827T200000Z
DTEND:20170827T220000Z
LOCATION:Walter Bradley Park
CLASS:PUBLIC
SUMMARY:Peace in the Park
END:VEVENT
END:VCALENDAR
