BEGIN:VCALENDAR
VERSION:2.0
PRODID:-//Sophicity/Tribune/Midway, KY
BEGIN:VEVENT
DTSTAMP:20260425T123732Z
UID:3b29fe0f-a6f5-4a24-a8c3-7164fb90467d-3978
DTSTART:20181023T220000Z
DTEND:20181023T233000Z
LOCATION:Midway Branch Library 400 Northside Dr.  Midway, KY 40347
CLASS:PUBLIC
SUMMARY:Veterans Memorial Meeting
END:VEVENT
END:VCALENDAR
