BEGIN:VCALENDAR
VERSION:2.0
PRODID:-//Sophicity/Tribune/Midway, KY
BEGIN:VEVENT
DTSTAMP:20260425T125711Z
UID:3b29fe0f-a6f5-4a24-a8c3-7164fb90467d-3998
DTSTART:20180916T150000Z
DTEND:20180916T210000Z
CLASS:PUBLIC
SUMMARY:Midway Fall Festival
END:VEVENT
END:VCALENDAR
