BEGIN:VCALENDAR
VERSION:2.0
PRODID:-//Sophicity/Tribune/Midway, KY
BEGIN:VEVENT
DTSTAMP:20260425T110014Z
UID:3b29fe0f-a6f5-4a24-a8c3-7164fb90467d-4001
DTSTART:20181124T150000Z
DTEND:20181124T220000Z
CLASS:PUBLIC
SUMMARY:Midway Christmas Open House with Santa
END:VEVENT
END:VCALENDAR
