BEGIN:VCALENDAR
VERSION:2.0
PRODID:-//Sophicity/Tribune/Midway, KY
BEGIN:VEVENT
DTSTAMP:20260425T105921Z
UID:3b29fe0f-a6f5-4a24-a8c3-7164fb90467d-4027
DTSTART:20181119T223000Z
DTEND:20181119T223000Z
LOCATION:City Hall at 101 E. Main St.
CLASS:PUBLIC
SUMMARY:City Council Meeting
END:VEVENT
END:VCALENDAR
