BEGIN:VCALENDAR
VERSION:2.0
PRODID:-//Sophicity/Tribune/Midway, KY
BEGIN:VEVENT
DTSTAMP:20260425T111624Z
UID:3b29fe0f-a6f5-4a24-a8c3-7164fb90467d-4053
DTSTART:20180905T130000Z
DTEND:20180905T140000Z
LOCATION:Midway Woodford County Library Branch, 400 Northside Dr. Midway, KY
CLASS:PUBLIC
SUMMARY:Midway Business Association Meeting
END:VEVENT
END:VCALENDAR
