BEGIN:VCALENDAR
VERSION:2.0
PRODID:-//Sophicity/Tribune/Midway, KY
BEGIN:VEVENT
DTSTAMP:20260425T123732Z
UID:3b29fe0f-a6f5-4a24-a8c3-7164fb90467d-4054
DTSTART:20181003T130000Z
DTEND:20181003T140000Z
LOCATION:Midway Woodford County Library Branch, 400 Northside Dr. Midway, KY
CLASS:PUBLIC
SUMMARY:Midway Business Association Meeting
END:VEVENT
END:VCALENDAR
