BEGIN:VCALENDAR
VERSION:2.0
PRODID:-//Sophicity/Tribune/Midway, KY
BEGIN:VEVENT
DTSTAMP:20260425T111717Z
UID:3b29fe0f-a6f5-4a24-a8c3-7164fb90467d-4093
DTSTART:20180818T220000Z
DTEND:20180819T000000Z
LOCATION:Back Porch of Midway Presbyterian Church 111 N Turner St.  Midway, Ky 40347
CLASS:PUBLIC
SUMMARY:Bluegrass Jam & Ice Cream Social
END:VEVENT
END:VCALENDAR
