BEGIN:VCALENDAR
VERSION:2.0
PRODID:-//Sophicity/Tribune/Midway, KY
BEGIN:VEVENT
DTSTAMP:20260425T104418Z
UID:3b29fe0f-a6f5-4a24-a8c3-7164fb90467d-4096
DTSTART:20181029T223000Z
DTEND:20181029T223000Z
LOCATION:Midway Christian Church at 123 E. Bruen Street
CLASS:PUBLIC
SUMMARY:Community Dinner 
END:VEVENT
END:VCALENDAR
