BEGIN:VCALENDAR
VERSION:2.0
PRODID:-//Sophicity/Tribune/Midway, KY
BEGIN:VEVENT
DTSTAMP:20260425T123732Z
UID:3b29fe0f-a6f5-4a24-a8c3-7164fb90467d-4122
DTSTART:20181008T190000Z
DTEND:20181008T220000Z
LOCATION:United Bank Parking Lot at 206 N Gratz Street
CLASS:PUBLIC
SUMMARY:Woodford County Farmers Market 
END:VEVENT
END:VCALENDAR
