BEGIN:VCALENDAR
VERSION:2.0
PRODID:-//Sophicity/Tribune/Midway, KY
BEGIN:VEVENT
DTSTAMP:20260425T125658Z
UID:3b29fe0f-a6f5-4a24-a8c3-7164fb90467d-4126
DTSTART:20180913T223000Z
DTEND:20180913T223000Z
LOCATION:Midway Public Library 400 Northside Dr. Midway, KY 40347
CLASS:PUBLIC
SUMMARY:What is a Kentuckian?
END:VEVENT
END:VCALENDAR
