BEGIN:VCALENDAR
VERSION:2.0
PRODID:-//Sophicity/Tribune/Midway, KY
BEGIN:VEVENT
DTSTAMP:20260425T104510Z
UID:3b29fe0f-a6f5-4a24-a8c3-7164fb90467d-4128
DTSTART:20181117T170000Z
DTEND:20181117T200000Z
LOCATION:Downtown Sidewalks
CLASS:PUBLIC
SUMMARY:Midway Charity Chili Cook-off
END:VEVENT
END:VCALENDAR
