BEGIN:VCALENDAR
VERSION:2.0
PRODID:-//Sophicity/Tribune/Midway, KY
BEGIN:VEVENT
DTSTAMP:20260425T031554Z
UID:3b29fe0f-a6f5-4a24-a8c3-7164fb90467d-4136
DTSTART:20190423T220000Z
DTEND:20190423T233000Z
LOCATION:Midway Branch Library 400 Northside Dr. Midway, KY 40347
CLASS:PUBLIC
SUMMARY:Veterans Memorial Committee Meeting
END:VEVENT
END:VCALENDAR
