BEGIN:VCALENDAR
VERSION:2.0
PRODID:-//Sophicity/Tribune/Midway, KY
BEGIN:VEVENT
DTSTAMP:20260425T111710Z
UID:3b29fe0f-a6f5-4a24-a8c3-7164fb90467d-4206
DTSTART:20190916T213000Z
DTEND:20190916T213000Z
LOCATION:Midway City Hall, 101 E Main St. 
CLASS:PUBLIC
SUMMARY:City Council Meeting
END:VEVENT
END:VCALENDAR
