BEGIN:VCALENDAR
VERSION:2.0
PRODID:-//Sophicity/Tribune/Midway, KY
BEGIN:VEVENT
DTSTAMP:20260425T032059Z
UID:3b29fe0f-a6f5-4a24-a8c3-7164fb90467d-4214
DTSTART:20190409T223000Z
DTEND:20190409T223000Z
LOCATION:Northside Elementary School
CLASS:PUBLIC
SUMMARY:Public Forum
END:VEVENT
END:VCALENDAR
