BEGIN:VCALENDAR
VERSION:2.0
PRODID:-//Sophicity/Tribune/Midway, KY
BEGIN:VEVENT
DTSTAMP:20260425T032031Z
UID:3b29fe0f-a6f5-4a24-a8c3-7164fb90467d-4215
DTSTART:20190425T223000Z
DTEND:20190426T003000Z
LOCATION:Walter Bradley Park
CLASS:PUBLIC
SUMMARY:Midway Living History
END:VEVENT
END:VCALENDAR
