BEGIN:VCALENDAR
VERSION:2.0
PRODID:-//Sophicity/Tribune/Midway, KY
BEGIN:VEVENT
DTSTAMP:20260425T031922Z
UID:3b29fe0f-a6f5-4a24-a8c3-7164fb90467d-4216
DTSTART:20190422T213000Z
DTEND:20190422T223000Z
LOCATION:Midway City Hall, 101 E. Main St.
CLASS:PUBLIC
SUMMARY:Affordable Housing Committee Meeting
END:VEVENT
END:VCALENDAR
