BEGIN:VCALENDAR
VERSION:2.0
PRODID:-//Sophicity/Tribune/Midway, KY
BEGIN:VEVENT
DTSTAMP:20260425T104635Z
UID:3b29fe0f-a6f5-4a24-a8c3-7164fb90467d-4260
DTSTART:20191021T190000Z
DTEND:20191021T220000Z
LOCATION:Midway
CLASS:PUBLIC
SUMMARY:Woodford County Farmers Market
END:VEVENT
END:VCALENDAR
