BEGIN:VCALENDAR
VERSION:2.0
PRODID:-//Sophicity/Tribune/Midway, KY
BEGIN:VEVENT
DTSTAMP:20260425T111551Z
UID:3b29fe0f-a6f5-4a24-a8c3-7164fb90467d-4263
DTSTART:20190918T213000Z
DTEND:20190918T223000Z
LOCATION:City Hall, 101 E. Main St. Midway, KY 40347
CLASS:PUBLIC
SUMMARY:Midway Parks Board Meetings
END:VEVENT
END:VCALENDAR
