BEGIN:VCALENDAR
VERSION:2.0
PRODID:-//Sophicity/Tribune/Midway, KY
BEGIN:VEVENT
DTSTAMP:20260425T111738Z
UID:3b29fe0f-a6f5-4a24-a8c3-7164fb90467d-4266
DTSTART:20190922T140000Z
DTEND:20190922T210000Z
CLASS:PUBLIC
SUMMARY:Midway's 45th Annual Fall Festival
END:VEVENT
END:VCALENDAR
