BEGIN:VCALENDAR
VERSION:2.0
PRODID:-//Sophicity/Tribune/Midway, KY
BEGIN:VEVENT
DTSTAMP:20260425T104446Z
UID:3b29fe0f-a6f5-4a24-a8c3-7164fb90467d-4269
DTSTART:20191109T150000Z
DTEND:20191109T220000Z
CLASS:PUBLIC
SUMMARY:Holiday Kick Off
END:VEVENT
END:VCALENDAR
