BEGIN:VCALENDAR
VERSION:2.0
PRODID:-//Sophicity/Tribune/Midway, KY
BEGIN:VEVENT
DTSTAMP:20260425T104634Z
UID:3b29fe0f-a6f5-4a24-a8c3-7164fb90467d-4275
DTSTART:20191031T220000Z
DTEND:20191101T000000Z
CLASS:PUBLIC
SUMMARY:Trick or Treat
END:VEVENT
END:VCALENDAR
