BEGIN:VCALENDAR
VERSION:2.0
PRODID:-//Sophicity/Tribune/Midway, KY
BEGIN:VEVENT
DTSTAMP:20260425T031037Z
UID:3b29fe0f-a6f5-4a24-a8c3-7164fb90467d-4344
DTSTART:20200514T213000Z
DTEND:20200514T223000Z
LOCATION:101 E Main St. Midway Ky 40347 
CLASS:PUBLIC
SUMMARY:Parks Board Meeting
END:VEVENT
END:VCALENDAR
