BEGIN:VCALENDAR
VERSION:2.0
PRODID:-//Sophicity/Tribune/Midway, KY
BEGIN:VEVENT
DTSTAMP:20260425T031918Z
UID:3b29fe0f-a6f5-4a24-a8c3-7164fb90467d-4391
DTSTART:20210607T213000Z
DTEND:20210607T223000Z
CLASS:PUBLIC
SUMMARY:Midway City Council Meeting 
END:VEVENT
END:VCALENDAR
