BEGIN:VCALENDAR
VERSION:2.0
PRODID:-//Sophicity/Tribune/Midway, KY
BEGIN:VEVENT
DTSTAMP:20260425T013759Z
UID:3b29fe0f-a6f5-4a24-a8c3-7164fb90467d-4398
DTSTART:20210531T040100Z
DTEND:20210601T035900Z
CLASS:PUBLIC
SUMMARY:Memorial Day
END:VEVENT
END:VCALENDAR
