BEGIN:VCALENDAR
VERSION:2.0
PRODID:-//Sophicity/Tribune/Midway, KY
BEGIN:VEVENT
DTSTAMP:20260425T031005Z
UID:3b29fe0f-a6f5-4a24-a8c3-7164fb90467d-4399
DTSTART:20210618T040100Z
DTEND:20210619T035900Z
CLASS:PUBLIC
SUMMARY:Juneteenth
END:VEVENT
END:VCALENDAR
