BEGIN:VCALENDAR
VERSION:2.0
PRODID:-//Sophicity/Tribune/Midway, KY
BEGIN:VEVENT
DTSTAMP:20260425T031216Z
UID:3b29fe0f-a6f5-4a24-a8c3-7164fb90467d-4406
DTSTART:20211230T050100Z
DTEND:20220101T045900Z
CLASS:PUBLIC
SUMMARY:New Year's Day
END:VEVENT
END:VCALENDAR
