BEGIN:VCALENDAR
VERSION:2.0
PRODID:-//Sophicity/Tribune/Midway, KY
BEGIN:VEVENT
DTSTAMP:20260425T031730Z
UID:3b29fe0f-a6f5-4a24-a8c3-7164fb90467d-4413
DTSTART:20210612T140000Z
DTEND:20210613T210000Z
LOCATION:Downtown Midway
CLASS:PUBLIC
SUMMARY:Francisco's Farm Art Fair 
END:VEVENT
END:VCALENDAR
