BEGIN:VCALENDAR
VERSION:2.0
PRODID:-//Sophicity/Tribune/Midway, KY
BEGIN:VEVENT
DTSTAMP:20260425T013804Z
UID:3b29fe0f-a6f5-4a24-a8c3-7164fb90467d-4417
DTSTART:20210522T120000Z
DTEND:20210522T210000Z
CLASS:PUBLIC
SUMMARY:Dash for Dolls 5K & 10k
END:VEVENT
END:VCALENDAR
