BEGIN:VCALENDAR
VERSION:2.0
PRODID:-//Sophicity/Tribune/Midway, KY
BEGIN:VEVENT
DTSTAMP:20260425T031805Z
UID:3b29fe0f-a6f5-4a24-a8c3-7164fb90467d-4478
DTSTART:20210703T223000Z
DTEND:20210704T010000Z
LOCATION:Walter Bradley Park
CLASS:PUBLIC
SUMMARY:Sparks in the Park
END:VEVENT
END:VCALENDAR
