BEGIN:VCALENDAR
VERSION:2.0
PRODID:-//Sophicity/Tribune/Midway, KY
BEGIN:VEVENT
DTSTAMP:20260424T234940Z
UID:3b29fe0f-a6f5-4a24-a8c3-7164fb90467d-4543
DTSTART:20220530T120000Z
DTEND:20220530T210000Z
CLASS:PUBLIC
SUMMARY:City Hall Closed - Memorial Day
END:VEVENT
END:VCALENDAR
