BEGIN:VCALENDAR
VERSION:2.0
PRODID:-//Sophicity/Tribune/Midway, KY
BEGIN:VEVENT
DTSTAMP:20260425T013505Z
UID:3b29fe0f-a6f5-4a24-a8c3-7164fb90467d-4544
DTSTART:20220620T120000Z
DTEND:20220620T210000Z
CLASS:PUBLIC
SUMMARY:City Hall Closed - Juneteenth
END:VEVENT
END:VCALENDAR
