BEGIN:VCALENDAR
VERSION:2.0
PRODID:-//Sophicity/Tribune/Midway, KY
BEGIN:VEVENT
DTSTAMP:20260424T221556Z
UID:3b29fe0f-a6f5-4a24-a8c3-7164fb90467d-4573
DTSTART:20220402T120000Z
DTEND:20220402T210000Z
LOCATION:101 E Main St. Midway KY 40347
CLASS:PUBLIC
SUMMARY:Midway Museum Grand Opening
END:VEVENT
END:VCALENDAR
