BEGIN:VCALENDAR
VERSION:2.0
PRODID:-//Sophicity/Tribune/Midway, KY
BEGIN:VEVENT
DTSTAMP:20260424T221602Z
UID:3b29fe0f-a6f5-4a24-a8c3-7164fb90467d-4575
DTSTART:20220426T223000Z
DTEND:20220427T003000Z
CLASS:PUBLIC
SUMMARY:Derby Prep and Beyond
END:VEVENT
END:VCALENDAR
