BEGIN:VCALENDAR
VERSION:2.0
PRODID:-//Sophicity/Tribune/Midway, KY
BEGIN:VEVENT
DTSTAMP:20260424T221453Z
UID:3b29fe0f-a6f5-4a24-a8c3-7164fb90467d-4576
DTSTART:20220428T220000Z
DTEND:20220429T000000Z
CLASS:PUBLIC
SUMMARY:First Steps to Organic Gardening
END:VEVENT
END:VCALENDAR
