BEGIN:VCALENDAR
VERSION:2.0
PRODID:-//Sophicity/Tribune/Midway, KY
BEGIN:VEVENT
DTSTAMP:20260424T234940Z
UID:3b29fe0f-a6f5-4a24-a8c3-7164fb90467d-4624
DTSTART:20220517T220000Z
DTEND:20220517T230000Z
CLASS:PUBLIC
SUMMARY:One Tank Trips 
END:VEVENT
END:VCALENDAR
