BEGIN:VCALENDAR
VERSION:2.0
PRODID:-//Sophicity/Tribune/Midway, KY
BEGIN:VEVENT
DTSTAMP:20260424T235648Z
UID:3b29fe0f-a6f5-4a24-a8c3-7164fb90467d-4625
DTSTART:20220528T200000Z
DTEND:20220529T020000Z
CLASS:PUBLIC
SUMMARY:Community Block Party
END:VEVENT
END:VCALENDAR
