BEGIN:VCALENDAR
VERSION:2.0
PRODID:-//Sophicity/Tribune/Midway, KY
BEGIN:VEVENT
DTSTAMP:20260425T013910Z
UID:3b29fe0f-a6f5-4a24-a8c3-7164fb90467d-4627
DTSTART:20220617T210000Z
DTEND:20220619T020000Z
CLASS:PUBLIC
SUMMARY:Celebration of Juneteenth
END:VEVENT
END:VCALENDAR
