BEGIN:VCALENDAR
VERSION:2.0
PRODID:-//Sophicity/Tribune/Midway, KY
BEGIN:VEVENT
DTSTAMP:20260425T013631Z
UID:3b29fe0f-a6f5-4a24-a8c3-7164fb90467d-4632
DTSTART:20220702T220000Z
DTEND:20220702T220000Z
CLASS:PUBLIC
SUMMARY:Sparks in the Park
END:VEVENT
END:VCALENDAR
